BEGIN:VCALENDAR
VERSION:2.0
PRODID:-//Brindle Brass Band - ECPv6.15.17//NONSGML v1.0//EN
CALSCALE:GREGORIAN
METHOD:PUBLISH
X-WR-CALNAME:Brindle Brass Band
X-ORIGINAL-URL:https://brindleband.co.uk
X-WR-CALDESC:Events for Brindle Brass Band
REFRESH-INTERVAL;VALUE=DURATION:PT1H
X-Robots-Tag:noindex
X-PUBLISHED-TTL:PT1H
BEGIN:VTIMEZONE
TZID:Europe/London
BEGIN:DAYLIGHT
TZOFFSETFROM:+0000
TZOFFSETTO:+0100
TZNAME:BST
DTSTART:20240331T010000
END:DAYLIGHT
BEGIN:STANDARD
TZOFFSETFROM:+0100
TZOFFSETTO:+0000
TZNAME:GMT
DTSTART:20241027T010000
END:STANDARD
BEGIN:DAYLIGHT
TZOFFSETFROM:+0000
TZOFFSETTO:+0100
TZNAME:BST
DTSTART:20250330T010000
END:DAYLIGHT
BEGIN:STANDARD
TZOFFSETFROM:+0100
TZOFFSETTO:+0000
TZNAME:GMT
DTSTART:20251026T010000
END:STANDARD
BEGIN:DAYLIGHT
TZOFFSETFROM:+0000
TZOFFSETTO:+0100
TZNAME:BST
DTSTART:20260329T010000
END:DAYLIGHT
BEGIN:STANDARD
TZOFFSETFROM:+0100
TZOFFSETTO:+0000
TZNAME:GMT
DTSTART:20261025T010000
END:STANDARD
END:VTIMEZONE
BEGIN:VEVENT
DTSTART;TZID=Europe/London:20251206T193000
DTEND;TZID=Europe/London:20251206T220000
DTSTAMP:20260422T195953
CREATED:20250328T144107Z
LAST-MODIFIED:20250813T073951Z
UID:6114-1765049400-1765058400@brindleband.co.uk
SUMMARY:Norbrek Tennis Club
DESCRIPTION:Norbrek Tennis Club\, Blackpool
URL:https://brindleband.co.uk/job/norbrek-tennis-club/
LOCATION:Norbreck Tennis & Bowling Club\, Norbreck Tennis & Bowling Club\, Blackpool\, FY5 1RZ
CATEGORIES:Concert
ORGANIZER;CN="Brindle Brass Band":MAILTO:hello@brindleband.co.uk
END:VEVENT
BEGIN:VEVENT
DTSTART;TZID=Europe/London:20250803T140000
DTEND;TZID=Europe/London:20250803T170000
DTSTAMP:20260422T195953
CREATED:20250328T143845Z
LAST-MODIFIED:20250813T074935Z
UID:6103-1754229600-1754240400@brindleband.co.uk
SUMMARY:Botanic Gardens Concert
DESCRIPTION:Botanic Gardens Concert\, Southport
URL:https://brindleband.co.uk/job/botanic-gardens-concert/
LOCATION:Southport Botanic Gardens\, Botanic Gardens\, 40 Bankfield Ln\, Southport\, PR9 7NB
CATEGORIES:Concert
END:VEVENT
BEGIN:VEVENT
DTSTART;TZID=Europe/London:20250615T140000
DTEND;TZID=Europe/London:20250615T170000
DTSTAMP:20260422T195953
CREATED:20250328T143511Z
LAST-MODIFIED:20250813T074457Z
UID:6086-1749996000-1750006800@brindleband.co.uk
SUMMARY:Happy Mount Park Concert
DESCRIPTION:Happy Mount Park Concert\, Morcambe
URL:https://brindleband.co.uk/job/happy-mount-park-concert/
LOCATION:Happy Mount Park\, Happy Mount Park\, Marine Rd E\, Morecambe\, LA4 6AQ
CATEGORIES:Concert
END:VEVENT
BEGIN:VEVENT
DTSTART;TZID=Europe/London:20250517T150000
DTEND;TZID=Europe/London:20250517T170000
DTSTAMP:20260422T195953
CREATED:20250328T143226Z
LAST-MODIFIED:20250813T074331Z
UID:6077-1747494000-1747501200@brindleband.co.uk
SUMMARY:Marton United Reformed Church Concert
DESCRIPTION:Marton United Reformed Church Concert\, Marton
URL:https://brindleband.co.uk/job/marton-united-reformed-church-concert/
LOCATION:Marton United Reformed Church\, Marton United Reformed Church\, Marton\, Blackpool\, FY3 9UR
CATEGORIES:Concert
ORGANIZER;CN="Brindle Brass Band":MAILTO:hello@brindleband.co.uk
END:VEVENT
BEGIN:VEVENT
DTSTART;TZID=Europe/London:20250426T000000
DTEND;TZID=Europe/London:20250426T235959
DTSTAMP:20260422T195953
CREATED:20250328T142048Z
LAST-MODIFIED:20250813T073908Z
UID:6064-1745625600-1745711999@brindleband.co.uk
SUMMARY:Spring Concert
DESCRIPTION:Spring Concert at Christchurch\, Wesham – Kirkham
URL:https://brindleband.co.uk/job/spring-concert/
LOCATION:Christ Church Wesham\, Christ Church Wesham\, Wesham\, Preston\, PR4 3DE
CATEGORIES:Concert
ORGANIZER;CN="Brindle Brass Band":MAILTO:hello@brindleband.co.uk
END:VEVENT
END:VCALENDAR