BEGIN:VCALENDAR
VERSION:2.0
PRODID:-//Brindle Brass Band - ECPv6.15.17//NONSGML v1.0//EN
CALSCALE:GREGORIAN
METHOD:PUBLISH
X-WR-CALNAME:Brindle Brass Band
X-ORIGINAL-URL:https://brindleband.co.uk
X-WR-CALDESC:Events for Brindle Brass Band
REFRESH-INTERVAL;VALUE=DURATION:PT1H
X-Robots-Tag:noindex
X-PUBLISHED-TTL:PT1H
BEGIN:VTIMEZONE
TZID:Europe/London
BEGIN:DAYLIGHT
TZOFFSETFROM:+0000
TZOFFSETTO:+0100
TZNAME:BST
DTSTART:20240331T010000
END:DAYLIGHT
BEGIN:STANDARD
TZOFFSETFROM:+0100
TZOFFSETTO:+0000
TZNAME:GMT
DTSTART:20241027T010000
END:STANDARD
BEGIN:DAYLIGHT
TZOFFSETFROM:+0000
TZOFFSETTO:+0100
TZNAME:BST
DTSTART:20250330T010000
END:DAYLIGHT
BEGIN:STANDARD
TZOFFSETFROM:+0100
TZOFFSETTO:+0000
TZNAME:GMT
DTSTART:20251026T010000
END:STANDARD
BEGIN:DAYLIGHT
TZOFFSETFROM:+0000
TZOFFSETTO:+0100
TZNAME:BST
DTSTART:20260329T010000
END:DAYLIGHT
BEGIN:STANDARD
TZOFFSETFROM:+0100
TZOFFSETTO:+0000
TZNAME:GMT
DTSTART:20261025T010000
END:STANDARD
END:VTIMEZONE
BEGIN:VEVENT
DTSTART;TZID=Europe/London:20250614T093000
DTEND;TZID=Europe/London:20250614T110000
DTSTAMP:20260423T003956
CREATED:20250328T143439Z
LAST-MODIFIED:20250512T105733Z
UID:6083-1749893400-1749898800@brindleband.co.uk
SUMMARY:Kirkham Club Day
DESCRIPTION:Kirkham Club Day\, Kirkhamn
URL:https://brindleband.co.uk/job/kirkham-club-day/
CATEGORIES:March
END:VEVENT
BEGIN:VEVENT
DTSTART;TZID=Europe/London:20250615T140000
DTEND;TZID=Europe/London:20250615T170000
DTSTAMP:20260423T003956
CREATED:20250328T143511Z
LAST-MODIFIED:20250813T074457Z
UID:6086-1749996000-1750006800@brindleband.co.uk
SUMMARY:Happy Mount Park Concert
DESCRIPTION:Happy Mount Park Concert\, Morcambe
URL:https://brindleband.co.uk/job/happy-mount-park-concert/
LOCATION:Happy Mount Park\, Happy Mount Park\, Marine Rd E\, Morecambe\, LA4 6AQ
CATEGORIES:Concert
END:VEVENT
BEGIN:VEVENT
DTSTART;TZID=Europe/London:20250622T090000
DTEND;TZID=Europe/London:20250622T113000
DTSTAMP:20260423T003956
CREATED:20250328T143552Z
LAST-MODIFIED:20250813T074616Z
UID:6089-1750582800-1750591800@brindleband.co.uk
SUMMARY:Blackburn & Darwen March & Hymn Contest
DESCRIPTION:Blackburn & Darwen March & Hymn Contest\, Darwen
URL:https://brindleband.co.uk/job/blackburn-darwen-march-hymn-contest/
LOCATION:Darwen\, Darwen\, BB3 1BH
CATEGORIES:Contest
END:VEVENT
BEGIN:VEVENT
DTSTART;VALUE=DATE:20250629
DTEND;VALUE=DATE:20250630
DTSTAMP:20260423T003956
CREATED:20250328T143707Z
LAST-MODIFIED:20250328T143707Z
UID:6095-1751155200-1751241599@brindleband.co.uk
SUMMARY:Red Admiral March & Hymn Contest
DESCRIPTION:Red Admiral March & Hymn Contest
URL:https://brindleband.co.uk/job/red-admiral-march-hymn-contest/
CATEGORIES:Contest
END:VEVENT
END:VCALENDAR