BEGIN:VCALENDAR
VERSION:2.0
PRODID:-//Brindle Brass Band - ECPv6.15.17//NONSGML v1.0//EN
CALSCALE:GREGORIAN
METHOD:PUBLISH
X-ORIGINAL-URL:https://brindleband.co.uk
X-WR-CALDESC:Events for Brindle Brass Band
REFRESH-INTERVAL;VALUE=DURATION:PT1H
X-Robots-Tag:noindex
X-PUBLISHED-TTL:PT1H
BEGIN:VTIMEZONE
TZID:Europe/London
BEGIN:DAYLIGHT
TZOFFSETFROM:+0000
TZOFFSETTO:+0100
TZNAME:BST
DTSTART:20240331T010000
END:DAYLIGHT
BEGIN:STANDARD
TZOFFSETFROM:+0100
TZOFFSETTO:+0000
TZNAME:GMT
DTSTART:20241027T010000
END:STANDARD
BEGIN:DAYLIGHT
TZOFFSETFROM:+0000
TZOFFSETTO:+0100
TZNAME:BST
DTSTART:20250330T010000
END:DAYLIGHT
BEGIN:STANDARD
TZOFFSETFROM:+0100
TZOFFSETTO:+0000
TZNAME:GMT
DTSTART:20251026T010000
END:STANDARD
BEGIN:DAYLIGHT
TZOFFSETFROM:+0000
TZOFFSETTO:+0100
TZNAME:BST
DTSTART:20260329T010000
END:DAYLIGHT
BEGIN:STANDARD
TZOFFSETFROM:+0100
TZOFFSETTO:+0000
TZNAME:GMT
DTSTART:20261025T010000
END:STANDARD
END:VTIMEZONE
BEGIN:VEVENT
DTSTART;TZID=Europe/London:20251018T100000
DTEND;TZID=Europe/London:20251018T140000
DTSTAMP:20260422T183243
CREATED:20250813T072632Z
LAST-MODIFIED:20250813T072637Z
UID:6159-1760781600-1760796000@brindleband.co.uk
SUMMARY:Rochdale Contest
DESCRIPTION:Rochdale Band Contest
URL:https://brindleband.co.uk/job/rochdale-contest/
LOCATION:Wardle Academy\, Rochdale\, Birch Rd\, Rochdale\, OL12 9RD
END:VEVENT
END:VCALENDAR